BEGIN:VCALENDAR
VERSION:2.0
PRODID:-//ChamberMaster//Event Calendar 2.0//EN
METHOD:PUBLISH
X-PUBLISHED-TTL:P3D
REFRESH-INTERVAL:P3D
CALSCALE:GREGORIAN
BEGIN:VEVENT
DTSTART;VALUE=DATE:20120922
DTEND;VALUE=DATE:20120923
TRANSP:TRANSPARENT
X-MICROSOFT-CDO-ALLDAYEVENT:TRUE
SUMMARY:Morrow Mountain Trail Construction
DESCRIPTION:Spend a weekend giving back to the Colorado outdoors you love! Join Volunteers for Outdoor Colorado (VOC) on the Morrow Mountain Trail Construction project in Bailey. Help restore a new trail in McGraw Memorial Park\, home to local historic sites. We will be constructing walls\, steps and switch backs on this challenging and rewarding project. Enjoy a hike of 1-2 miles and help give back to Colorado's great outdoors by volunteering! Free to participate\; minimum age: 14. Light breakfast and lunch provided.  Learn more and register online at www.voc.org/projects
X-ALT-DESC;FMTTYPE=text/html:<p class="MsoNormal" style="margin: 0in 0in 10pt">\n	<font color="#000000" size="3">Spend a weekend giving back to the Colorado outdoors you love! Join Volunteers for Outdoor Colorado (VOC) on the Morrow Mountain Trail Construction project in Bailey. Help restore a new trail in McGraw Memorial Park\, home to local historic sites. We will be constructing walls\, steps and switch backs on this challenging and rewarding project. Enjoy a hike of 1-2 miles and help give back to Colorado&rsquo\;s great outdoors by volunteering! Free to participate\; minimum age: 14. Light breakfast and lunch provided.<span style="mso-spacerun: yes">&nbsp\; </span>Learn more and register online at </font><a href="http://www.voc.org/projects"><font color="#0000ff" size="3">www.voc.org</font></a><font color="#0000ff" size="3">/projects</font></p>\n
LOCATION:McGraw Memorial Park
UID:e.692.1347
SEQUENCE:3
DTSTAMP:20260424T172047Z
URL:https://business.goconifer.com/events/details/morrow-mountain-trail-construction-09-22-2012-1347
END:VEVENT

END:VCALENDAR
