BEGIN:VCALENDAR
VERSION:2.0
PRODID:-//ChamberMaster//Event Calendar 2.0//EN
METHOD:PUBLISH
X-PUBLISHED-TTL:P3D
REFRESH-INTERVAL:P3D
CALSCALE:GREGORIAN
BEGIN:VEVENT
DTSTART:20250416T130000Z
DTEND:20250416T140000Z
X-MICROSOFT-CDO-ALLDAYEVENT:FALSE
SUMMARY:Morning Flow Yoga
DESCRIPTION:Yoga is a great way to get the day started. Connecting to your body and breath\, moving through postures to help your body feel its best for the day\, and meditating to put yourself in a positive mindset all set your day up for success.\n\n\n\nBeginners and regular practitioners alike are welcome to join this class. We will focus on the basics of yoga.\n\n\n\nYou are encouraged to bring your own mat and props. A limited number will be available on a first come\, first served basis should you need to borrow any.
X-ALT-DESC;FMTTYPE=text/html:<span style="background-color:rgb(255\, 254\, 249)\; color:rgb(47\, 43\, 38)\; font-family:marcellus\,serif\; font-size:16px">Yoga is a great way to get the day started. Connecting to your body and breath\, moving through postures to help your body feel its best for the day\, and meditating to put yourself in a positive mindset all set your day up for success.<br />\n<br />\nBeginners and regular practitioners alike are welcome to join this class. We will focus on the basics of yoga.<br />\n<br />\nYou are encouraged to bring your own mat and props. A limited number will be available on a first come\, first served basis should you need to borrow any.</span>
LOCATION:The Kiva at Glen Isle Resort 573 Old Stagecoach Rd\, Bailey\, CO 80421
UID:e.692.46278
SEQUENCE:3
DTSTAMP:20260426T010512Z
URL:https://business.goconifer.com/events/details/morning-flow-yoga-04-16-2025-46278
END:VEVENT

END:VCALENDAR
