BEGIN:VCALENDAR
VERSION:2.0
PRODID:-//ChamberMaster//Event Calendar 2.0//EN
METHOD:PUBLISH
X-PUBLISHED-TTL:P3D
REFRESH-INTERVAL:P3D
CALSCALE:GREGORIAN
BEGIN:VEVENT
DTSTART:20160108T141500Z
DTEND:20160108T160000Z
X-MICROSOFT-CDO-ALLDAYEVENT:FALSE
SUMMARY:Monthly Membership Meeting
DESCRIPTION:Conifer Area Chamber of Commerce Monthly Membership Meeting\n\nThis meeting welcomes chamber members\, prospective members\, and any of our neighbors interested in learning more about our business community and activities in the area! \n\n \n\n7:15a Welcome\, Breakfast and Networking \n\n7:30a Meeting Begins \n\n9:00a Meeting Adjourns \n\n \n\nFees/Admission: Members $12 / Non-Members $18\n\n\nJANUARY SPEAKER:- Randy Ferguson\n\n"Leveraging Results by Bringing Out the Best in Others"\n\nHow do extraordinary leaders consistently bring out the best in the people they influence? What are the secret techniques that inspire excellence?
X-ALT-DESC;FMTTYPE=text/html:<p><strong><span style="font-family:verdana\,geneva\,sans-serif">Conifer Area Chamber of Commerce Monthly Membership Meeting</span></strong></p>\n\n<div>This meeting welcomes chamber members\, prospective members\, and any of our neighbors interested in learning more about our business community and activities in the area!&nbsp\;</div>\n\n<div>&nbsp\;</div>\n\n<div>7:15a Welcome\, Breakfast and Networking&nbsp\;</div>\n\n<div>7:30a Meeting Begins&nbsp\;</div>\n\n<div>9:00a Meeting Adjourns&nbsp\;</div>\n\n<div>&nbsp\;</div>\n\n<div>Fees/Admission:&nbsp\;Members $12 /&nbsp\;Non-Members $18</div>\n<br />\nJANUARY SPEAKER:- Randy Ferguson<br />\n<strong>&quot\;Leveraging Results by Bringing Out the Best in Others&quot\;</strong><br />\nHow do extraordinary leaders consistently&nbsp\;bring out the best in the people they influence? What are the secret techniques that inspire excellence?<br />\n&nbsp\;
LOCATION:Los 3 Garcias 25567 Conifer Rd.\, Conifer (in the Kings Soopers Shopping Center)
UID:e.692.13934
SEQUENCE:3
DTSTAMP:20260422T041323Z
URL:https://business.goconifer.com/events/details/monthly-membership-meeting-01-08-2016-13934
END:VEVENT

END:VCALENDAR
