BEGIN:VCALENDAR
VERSION:2.0
PRODID:-//ChamberMaster//Event Calendar 2.0//EN
METHOD:PUBLISH
X-PUBLISHED-TTL:P3D
REFRESH-INTERVAL:P3D
CALSCALE:GREGORIAN
BEGIN:VEVENT
DTSTART:20130416T000000Z
DTEND:20130416T010000Z
X-MICROSOFT-CDO-ALLDAYEVENT:FALSE
SUMMARY:Monday Moves-Stingers Soccer Clinic
DESCRIPTION:This program is for the beginner level soccer player and focuses on one player/one ball\, specific fast foot skills\, turns to get out of pressure\, and moves to beat an opponent. This clinic is great for building confidence on the ball. The players will work with a Stingers staff coach and other coaches.
X-ALT-DESC;FMTTYPE=text/html:<span style="color: rgb(68\, 68\, 68)\; line-height: 20px\; font-family: &quot\;Open Sans&quot\;\, sans-serif\;">This program is for the beginner level soccer player and focuses on one player/one ball\, specific fast foot skills\, turns to get out of pressure\, and moves to beat an opponent. This clinic is great for building confidence on the ball. The players will work with a Stingers staff coach and other coaches.</span>
LOCATION:
UID:e.692.1437
SEQUENCE:3
DTSTAMP:20260424T072650Z
URL:https://business.goconifer.com/events/details/monday-moves-stingers-soccer-clinic-04-15-2013-1437
END:VEVENT

END:VCALENDAR
