BEGIN:VCALENDAR
VERSION:2.0
PRODID:-//ChamberMaster//Event Calendar 2.0//EN
METHOD:PUBLISH
X-PUBLISHED-TTL:P3D
REFRESH-INTERVAL:P3D
CALSCALE:GREGORIAN
BEGIN:VEVENT
DTSTART:20120823T140000Z
DTEND:20120823T190000Z
X-MICROSOFT-CDO-ALLDAYEVENT:FALSE
SUMMARY:MMAR 1st annual charity golf tournament
DESCRIPTION:Mt. Metro Association of Realtors charity golf tournament benefitting the Evergreen Animal Protective League.
X-ALT-DESC;FMTTYPE=text/html:Mt. Metro Association of Realtors charity golf tournament benefitting the Evergreen Animal Protective League.
LOCATION:Evergreen Golf course
UID:e.692.1333
SEQUENCE:3
DTSTAMP:20260424T184533Z
URL:https://business.goconifer.com/events/details/mmar-1st-annual-charity-golf-tournament-08-23-2012-1333
END:VEVENT

END:VCALENDAR
