BEGIN:VCALENDAR
VERSION:2.0
PRODID:-//ChamberMaster//Event Calendar 2.0//EN
METHOD:PUBLISH
X-PUBLISHED-TTL:P3D
REFRESH-INTERVAL:P3D
CALSCALE:GREGORIAN
BEGIN:VEVENT
DTSTART;VALUE=DATE:20110121
DTEND;VALUE=DATE:20110122
TRANSP:TRANSPARENT
X-MICROSOFT-CDO-ALLDAYEVENT:TRUE
SUMMARY:Mixer To Kick Off 2011
DESCRIPTION:Let's get 2011 off to a great start!\n\nJoin us for a After Hours Business Mixer!
X-ALT-DESC;FMTTYPE=text/html:Let&#39\;s get 2011 off to a great start!<br />\nJoin us for a After Hours Business Mixer!
LOCATION:Conifer Dental Group 10801 Kitty Drive Aspen Park\, CO 80433-7721 (303) 838-7904
UID:e.692.828
SEQUENCE:3
DTSTAMP:20260424T225758Z
URL:https://business.goconifer.com/events/details/mixer-to-kick-off-2011-01-21-2011-828
END:VEVENT

END:VCALENDAR
