BEGIN:VCALENDAR
VERSION:2.0
PRODID:-//ChamberMaster//Event Calendar 2.0//EN
METHOD:PUBLISH
X-PUBLISHED-TTL:P3D
REFRESH-INTERVAL:P3D
CALSCALE:GREGORIAN
BEGIN:VEVENT
DTSTART:20120510T233000Z
DTEND:20120511T013000Z
X-MICROSOFT-CDO-ALLDAYEVENT:FALSE
SUMMARY:Mixer at St. Laurence Episcopal Church
DESCRIPTION:MIX IT UP!\n\n	 Business Mixer\n\n	 Grab your business cards and let's mix it up!
X-ALT-DESC;FMTTYPE=text/html:<em><font face="Verdana" size="2">&nbsp\;</font></em>\n<div align="center">\n	<span style="font-size: 16px"><strong>MIX IT UP!<br />\n	&nbsp\;Business Mixer</strong></span></div>\n<div align="center">\n	<span style="font-size: 16px">&nbsp\;Grab your business cards and let&#39\;s mix it up!</span></div>\n<div align="center">\n	<div>\n		&nbsp\;</div>\n</div>
LOCATION:St. Laurence Episcopal Church\, 26812 Barkley Rd.\, Conifer
UID:e.692.1273
SEQUENCE:3
DTSTAMP:20260424T231432Z
URL:https://business.goconifer.com/events/details/mixer-at-st-laurence-episcopal-church-05-10-2012-1273
END:VEVENT

END:VCALENDAR
