BEGIN:VCALENDAR
VERSION:2.0
PRODID:-//ChamberMaster//Event Calendar 2.0//EN
METHOD:PUBLISH
X-PUBLISHED-TTL:P3D
REFRESH-INTERVAL:P3D
CALSCALE:GREGORIAN
BEGIN:VEVENT
DTSTART:20131115T003000Z
DTEND:20131115T023000Z
X-MICROSOFT-CDO-ALLDAYEVENT:FALSE
SUMMARY:Mixer at Mountain Books
DESCRIPTION:Join us for fun networking with four hosts: Nancy Dunkin (Bio Mat)\, Lisa Lindsey (Legal Shield)\, Jacque Scott (Mountain Connection) and Jesse McKean (Mountain Books).\n\n\n\nBe sure to bring your business cards!
X-ALT-DESC;FMTTYPE=text/html:Join us for fun networking with four hosts: Nancy Dunkin (Bio Mat)\, Lisa Lindsey (Legal Shield)\, Jacque Scott (Mountain Connection) and Jesse McKean (Mountain Books).<br />\n<br />\nBe sure to bring your business cards!
LOCATION:Mountain Books Aspen Park Village2 5797 Conifer Rd. B-104 Conifer\, CO 80433
UID:e.692.1591
SEQUENCE:3
DTSTAMP:20260423T212515Z
URL:https://business.goconifer.com/events/details/mixer-at-mountain-books-11-14-2013-1591
END:VEVENT

END:VCALENDAR
