BEGIN:VCALENDAR
VERSION:2.0
PRODID:-//ChamberMaster//Event Calendar 2.0//EN
METHOD:PUBLISH
X-PUBLISHED-TTL:P3D
REFRESH-INTERVAL:P3D
CALSCALE:GREGORIAN
BEGIN:VEVENT
DTSTART:20140117T000000Z
DTEND:20140117T020000Z
X-MICROSOFT-CDO-ALLDAYEVENT:FALSE
SUMMARY:Mixer at Moore Lumber Pine Junction
DESCRIPTION:It's a mixer at Moore Lumber Pine Junction!\n\nMix\, mingle and network!
X-ALT-DESC;FMTTYPE=text/html:It&#39\;s a mixer at Moore Lumber Pine Junction!<br />\nMix\, mingle and network!
LOCATION:Moore Lumber Pine Junction 186 Mt. Evans Blvd. Pine\, CO 80470 (303) 674-1001
UID:e.692.1597
SEQUENCE:3
DTSTAMP:20260423T184311Z
URL:https://business.goconifer.com/events/details/mixer-at-moore-lumber-pine-junction-01-16-2014-1597
END:VEVENT

END:VCALENDAR
