BEGIN:VCALENDAR
VERSION:2.0
PRODID:-//ChamberMaster//Event Calendar 2.0//EN
METHOD:PUBLISH
X-PUBLISHED-TTL:P3D
REFRESH-INTERVAL:P3D
CALSCALE:GREGORIAN
BEGIN:VEVENT
DTSTART:20131213T003000Z
DTEND:20131213T023000Z
X-MICROSOFT-CDO-ALLDAYEVENT:FALSE
SUMMARY:Mixer at Look What I Found Boutique
DESCRIPTION:Join us for a holiday themed mixer!\n\nBe sure to bring your business cards!
X-ALT-DESC;FMTTYPE=text/html:Join us for a holiday themed mixer!<br />\nBe sure to bring your business cards!
LOCATION:Look What I Found Boutique Aspen Park Village 25797 Conifer Rd. #B217 Conifer\, CO 80433
UID:e.692.1594
SEQUENCE:3
DTSTAMP:20260423T212617Z
URL:https://business.goconifer.com/events/details/mixer-at-look-what-i-found-boutique-12-12-2013-1594
END:VEVENT

END:VCALENDAR
