BEGIN:VCALENDAR
VERSION:2.0
PRODID:-//ChamberMaster//Event Calendar 2.0//EN
METHOD:PUBLISH
X-PUBLISHED-TTL:P3D
REFRESH-INTERVAL:P3D
CALSCALE:GREGORIAN
BEGIN:VEVENT
DTSTART:20120621T233000Z
DTEND:20120622T013000Z
X-MICROSOFT-CDO-ALLDAYEVENT:FALSE
SUMMARY:Mixer at FirstBank of Aspen Park
DESCRIPTION:The Conifer Chamber is Mixing it Up!\n\nFood\, drinks\, and networking have never been this much fun!
X-ALT-DESC;FMTTYPE=text/html:The Conifer Chamber is Mixing it Up!<br />\nFood\, drinks\, and networking have never been this much fun!
LOCATION:FirstBank of Aspen Park 25617 Conifer Road Conifer\, CO 80433
UID:e.692.1277
SEQUENCE:3
DTSTAMP:20260424T231751Z
URL:https://business.goconifer.com/events/details/mixer-at-firstbank-of-aspen-park-06-21-2012-1277
END:VEVENT

END:VCALENDAR
