BEGIN:VCALENDAR
VERSION:2.0
PRODID:-//ChamberMaster//Event Calendar 2.0//EN
METHOD:PUBLISH
X-PUBLISHED-TTL:P3D
REFRESH-INTERVAL:P3D
CALSCALE:GREGORIAN
BEGIN:VEVENT
DTSTART:20110211T000000Z
DTEND:20110211T020000Z
X-MICROSOFT-CDO-ALLDAYEVENT:FALSE
SUMMARY:Mixer at Conifer Mountain Family Medicine
DESCRIPTION:After Hours Business Mixer\n\n	See old friends\, meet new ones\, and learn about the services offered by\n\n	Conifer Mountain Family Medicine and A Sante Professional Skin Care!
X-ALT-DESC;FMTTYPE=text/html:<p style="text-align: center\; ">\n	<span style="font-size:14px\;">After Hours Business Mixer</span></p>\n<p style="text-align: center\; ">\n	<span style="font-size:14px\;">See old friends\, meet new ones\, and learn about the services offered by<br />\n	Conifer Mountain Family Medicine and A Sante Professional Skin Care!</span></p>\n
LOCATION:10791 Kitty Drive\, Suite A\, Conifer (across from Staples)
UID:e.692.847
SEQUENCE:3
DTSTAMP:20260425T003856Z
URL:https://business.goconifer.com/events/details/mixer-at-conifer-mountain-family-medicine-02-10-2011-847
END:VEVENT

END:VCALENDAR
