BEGIN:VCALENDAR
VERSION:2.0
PRODID:-//ChamberMaster//Event Calendar 2.0//EN
METHOD:PUBLISH
X-PUBLISHED-TTL:P3D
REFRESH-INTERVAL:P3D
CALSCALE:GREGORIAN
BEGIN:VEVENT
DTSTART:20130516T230000Z
DTEND:20130517T010000Z
X-MICROSOFT-CDO-ALLDAYEVENT:FALSE
SUMMARY:Mix it up with Morse Evergreen AutoBody\, American Cancer Society & EDS Transfer
DESCRIPTION:Mixer with the Evergreen & Conifer Chambers at Morse Evergreen AutoBody with American Cancer Society/Mountain Relay for Life and the EDS Waste Transfer Station
X-ALT-DESC;FMTTYPE=text/html:<br />\n<span style="font-weight: bold\; language: EN\;"><span style="font-size: 9pt\;"><span style="font-family: arial\;">Mixer with the Evergreen &amp\; Conifer Chambers at Morse Evergreen AutoBody with American Cancer Society/Mountain Relay for Life and the EDS Waste Transfer Station</span></span></span><br />\n&nbsp\;<br />\n
LOCATION:Morse Evergreen AutoBody at the Marshdale Roundabout 7073 Highway 73\, Evergreen CO
UID:e.692.1468
SEQUENCE:3
DTSTAMP:20260424T073628Z
URL:https://business.goconifer.com/events/details/mix-it-up-with-morse-evergreen-autobody-american-cancer-society-eds-transfer-05-16-2013-1468
END:VEVENT

END:VCALENDAR
