BEGIN:VCALENDAR
VERSION:2.0
PRODID:-//ChamberMaster//Event Calendar 2.0//EN
METHOD:PUBLISH
X-PUBLISHED-TTL:P3D
REFRESH-INTERVAL:P3D
CALSCALE:GREGORIAN
BEGIN:VEVENT
DTSTART:20160316T003000Z
DTEND:20160316T020000Z
X-MICROSOFT-CDO-ALLDAYEVENT:FALSE
SUMMARY:MindSpark Learning Community Informational Meeting
DESCRIPTION:Join us this evening to learn about MindSpark!  \n\n\n\nMindspark Learning Community is a unique educational experience for children ages 4-14.  Located in beautiful Conifer\, Colorado\, our flexible program offers children a personalized education and a sense of self within a nurturing\, supportive community. \n\n\n\nOur passionate teachers are committed to supporting each child's individual growth.  Our low child:teacher ratio allows them to help each child reach their full potential in our developmentally-appropriate\, high-quality programs. We believe in freedom within structure and the value of a multi-age environment\, which allow children to thrive academically\, socially and emotionally and grow into mature\, responsible learners.  And most importantly\, our educational model gives children plenty of free time to explore their own interests\, spend time with their families and be free to just be kids!
X-ALT-DESC;FMTTYPE=text/html:<h2>Join us this evening to learn about MindSpark! &nbsp\;<br />\n<br />\nMindspark Learning Community is a unique educational experience for children ages 4-14. &nbsp\;Located in beautiful Conifer\, Colorado\, our flexible program offers children a personalized education and a sense of self within a nurturing\, supportive community.&nbsp\;<br />\n<br />\nOur passionate teachers are committed to supporting each child&#39\;s individual growth. &nbsp\;Our low child:teacher ratio allows them to help each child reach their full potential in our developmentally-appropriate\, high-quality programs.&nbsp\;We believe in freedom within structure and the value of a multi-age environment\, which allow children to thrive academically\, socially and emotionally and grow into mature\, responsible learners. &nbsp\;And most importantly\, our educational model gives children plenty of free time to explore their own interests\, spend time with their families and be free to just be kids!</h2>\n<br />\n<br />\n&nbsp\;
LOCATION:Conifer Community Church
UID:e.692.17119
SEQUENCE:3
DTSTAMP:20260422T012428Z
URL:https://business.goconifer.com/events/details/mindspark-learning-community-informational-meeting-03-15-2016-17119
END:VEVENT

END:VCALENDAR
