BEGIN:VCALENDAR
VERSION:2.0
PRODID:-//ChamberMaster//Event Calendar 2.0//EN
METHOD:PUBLISH
X-PUBLISHED-TTL:P3D
REFRESH-INTERVAL:P3D
CALSCALE:GREGORIAN
BEGIN:VEVENT
DTSTART:20160420T000000Z
DTEND:20160420T020000Z
X-MICROSOFT-CDO-ALLDAYEVENT:FALSE
SUMMARY:MindSpark Learning Community Information Meeting!
DESCRIPTION:Join us at Conifer Community Church to learn more about this unique education alternative for ages 4-14.  We specialize in personalized learning\, small classes\, and interest-based learning.  Come see if we're the right fit for your family!
X-ALT-DESC;FMTTYPE=text/html:Join us at Conifer Community Church to learn more about this unique education alternative for ages 4-14. &nbsp\;We specialize in personalized learning\, small classes\, and interest-based learning. &nbsp\;Come see if we&#39\;re the right fit for your family! &nbsp\;
LOCATION:Conifer Community Church\, 9998 Havekost Rd\, Conifer\, CO
UID:e.692.17181
SEQUENCE:3
DTSTAMP:20260422T000620Z
URL:https://business.goconifer.com/events/details/mindspark-learning-community-information-meeting-04-19-2016-17181
END:VEVENT

END:VCALENDAR
