BEGIN:VCALENDAR
VERSION:2.0
PRODID:-//ChamberMaster//Event Calendar 2.0//EN
METHOD:PUBLISH
X-PUBLISHED-TTL:P3D
REFRESH-INTERVAL:P3D
CALSCALE:GREGORIAN
BEGIN:VEVENT
DTSTART:20250520T150000Z
DTEND:20250520T223000Z
X-MICROSOFT-CDO-ALLDAYEVENT:FALSE
SUMMARY:Mental Health First Aid - VIRTUAL Adult Training
DESCRIPTION:Mental Health First Aid is an interactive course that teaches people how to assist and support others who may be experiencing a mental health or substance use challenge. The curriculum includes a two-hour self-paced course\, & a six-hour virtual live session led by MHFA instructors. You will receive communications about the self-paced course 2 weeks before the course start date. To attend\, you must:   Complete a self-paced course prior to class.   Have a valid email address to receive materials and log in. Registration closes on 05/06/2025\, so sign up now!\n\nMental Health First Aid - VIRTUAL Adult Training - May 20\, 2025
X-ALT-DESC;FMTTYPE=text/html:<span style="color:rgba(51\, 51\, 51\, 0.68)\; font-family:ctsans\,sans-serif\; font-size:14px">Mental Health First Aid is an interactive course that teaches people how to assist and support others who may be experiencing a mental health or substance use challenge. The curriculum includes a two-hour self-paced course\, &amp\; a six-hour virtual live session led by MHFA instructors. You will receive communications about the self-paced course 2 weeks before the course start date. To attend\, you must: &bull\; Complete a self-paced course prior to class. &bull\; Have a valid email address to receive materials and log in. Registration closes on 05/06/2025\, so sign up now!</span><br />\n<a href="https://lp.constantcontactpages.com/ev/reg/4mucszm">Mental Health First Aid - VIRTUAL Adult Training - May 20\, 2025</a>
LOCATION:Virtual event\, link for training will be provided after registration.
UID:e.692.46312
SEQUENCE:3
DTSTAMP:20260425T232229Z
URL:https://business.goconifer.com/events/details/mental-health-first-aid-virtual-adult-training-04-28-2025-46312
END:VEVENT

END:VCALENDAR
