BEGIN:VCALENDAR
VERSION:2.0
PRODID:-//ChamberMaster//Event Calendar 2.0//EN
METHOD:PUBLISH
X-PUBLISHED-TTL:P3D
REFRESH-INTERVAL:P3D
CALSCALE:GREGORIAN
BEGIN:VEVENT
DTSTART:20160127T153000Z
DTEND:20160128T000000Z
X-MICROSOFT-CDO-ALLDAYEVENT:FALSE
SUMMARY:Mental Health First Aid for Veterans
DESCRIPTION:Mental Health First Aid for Veterans discusses military culture and its relevance to mental health\, reviews specific risk factors faced by many service members and their families (such as trauma\, stress and separation) and helps break down the stigma associated with mental health problems. It provides a concrete action plan designed specifically for service members\, their families and those who support them and helps Veterans connect to resources available in their community.\n\nClass Dates: Wednesday\, January 27th\n\nClass Time: 8:30am -5:00pm\n\nLocation: Clear Creek County Courthouse - Board of County Commissioners Hearing Room\, 405 Argentine St.\, Georgetown\, CO 80444\n\nClass is FREE\n\nRegister at www.mhfajcmh.org\n\nFor more information\, visit www.mhfajcmh.org or contact Julie DiTullio at 303-432-5644 or julied@jcmh.org
X-ALT-DESC;FMTTYPE=text/html:<p><strong><span style="color:rgb(51\, 51\, 51)\; font-family:georgia\,serif">Mental Health First Aid for Veterans</span></strong><span style="color:rgb(51\, 51\, 51)\; font-family:georgia\,serif"> discusses military culture and its relevance to mental health\, reviews specific risk factors faced by many service members and their families (such as trauma\, stress and separation) and helps break down the stigma associated with mental health problems. It provides a concrete action plan designed specifically for service members\, their families and those who support them and helps Veterans connect to resources available in their community.</span></p>\n\n<p><span style="color:rgb(51\, 51\, 51)\; font-family:georgia\,serif">Class Dates: Wednesday\, January 27th</span></p>\n\n<p><span style="color:rgb(51\, 51\, 51)\; font-family:georgia\,serif">Class Time: 8:30am -5:00pm</span></p>\n\n<p><span style="color:rgb(51\, 51\, 51)\; font-family:georgia\,serif">Location: Clear Creek County Courthouse - Board of County Commissioners Hearing Room\, 405 Argentine St.\, Georgetown\, CO 80444</span></p>\n\n<p><span style="color:rgb(51\, 51\, 51)\; font-family:georgia\,serif">Class is FREE</span></p>\n\n<p><span style="color:rgb(51\, 51\, 51)\; font-family:georgia\,serif">Register at www.mhfajcmh.org</span></p>\n\n<p><span style="color:rgb(51\, 51\, 51)\; font-family:georgia\,serif">For more information\, visit www.mhfajcmh.org or contact Julie DiTullio at 303-432-5644 or julied@jcmh.org</span></p>\n
LOCATION:Clear Creek County Courthouse - Board of County Commissioners Hearing Room\, 405 Argentine St.\, Georgetown\, CO 80444
UID:e.692.16418
SEQUENCE:3
DTSTAMP:20260422T041430Z
URL:https://business.goconifer.com/events/details/mental-health-first-aid-for-veterans-01-27-2016-16418
END:VEVENT

END:VCALENDAR
