BEGIN:VCALENDAR
VERSION:2.0
PRODID:-//ChamberMaster//Event Calendar 2.0//EN
METHOD:PUBLISH
X-PUBLISHED-TTL:P3D
REFRESH-INTERVAL:P3D
CALSCALE:GREGORIAN
BEGIN:VEVENT
DTSTART:20201211T150000Z
DTEND:20201211T160000Z
X-MICROSOFT-CDO-ALLDAYEVENT:FALSE
SUMMARY:Membership Meeting - Virtual
DESCRIPTION:For our membership meeting in December we will be holding a virtual Speed Networking event.  You do not want to miss this great opportunity to meet new contacts in this high paced\, engaging event.  Be part of the conversation!  Spread the word about your business and be on track to grow your business in the new year.\n\n\n\nThis meeting welcomes chamber members\, prospective members\, and any of our neighbors interested in learning more about our business community and activities in the area!
X-ALT-DESC;FMTTYPE=text/html:<span style="font-size:16px\;"><span style="color:#B22222\;"><span style="font-family: arial\, sans-serif\;"><strong>For our membership meeting in December we will be holding a virtual Speed Networking event.&nbsp\; You do not want to miss this great opportunity to meet new contacts in this high paced\, engaging event.&nbsp\; Be part of the conversation!&nbsp\; Spread the word about your business and be on track to grow your business in the new year.</strong></span></span></span><br />\n<br />\n<span style="color: rgb(34\, 34\, 34)\; font-family: arial\, sans-serif\; font-size: 14px\;">This meeting welcomes chamber members\, prospective members\, and any of our neighbors interested in learning more about our business community and activities in the area!</span>
LOCATION:Registration is required. Once you register for the membership meeting you will receive an email with a link to the virtual meeting room.
UID:e.692.26569
SEQUENCE:3
DTSTAMP:20260421T081035Z
URL:https://business.goconifer.com/events/details/membership-meeting-virtual-12-11-2020-26569
END:VEVENT

END:VCALENDAR
