BEGIN:VCALENDAR
VERSION:2.0
PRODID:-//ChamberMaster//Event Calendar 2.0//EN
METHOD:PUBLISH
X-PUBLISHED-TTL:P3D
REFRESH-INTERVAL:P3D
CALSCALE:GREGORIAN
BEGIN:VEVENT
DTSTART:20151007T150000Z
DTEND:20151007T163000Z
X-MICROSOFT-CDO-ALLDAYEVENT:FALSE
SUMMARY:Membership 201
DESCRIPTION:Membership 201- Learn how to utilize and optimize your web profile. We will cover areas such as HotDeals\, Events\, Job Postings\, Profile Updates\, Analytics and more.
X-ALT-DESC;FMTTYPE=text/html:Membership 201- Learn how to utilize and optimize your web profile. We will cover areas such as HotDeals\, Events\, Job Postings\, Profile Updates\, Analytics and more.
LOCATION:RE/MAX Meeting Room (upstairs from Chamber Office) 30480 Stagecoach Blvd Evergreen\, CO 80439
UID:e.692.12607
SEQUENCE:3
DTSTAMP:20260423T065830Z
URL:https://business.goconifer.com/events/details/membership-201-10-07-2015-12607
END:VEVENT

END:VCALENDAR
