BEGIN:VCALENDAR
VERSION:2.0
PRODID:-//ChamberMaster//Event Calendar 2.0//EN
METHOD:PUBLISH
X-PUBLISHED-TTL:P3D
REFRESH-INTERVAL:P3D
CALSCALE:GREGORIAN
BEGIN:VEVENT
DTSTART:20231008T200000Z
DTEND:20231008T230000Z
X-MICROSOFT-CDO-ALLDAYEVENT:FALSE
SUMMARY:Member Appreciation Party
DESCRIPTION:Join us for an unforgettable day of appreciation and Broncos spirit at our "Mile High plus 3K Member Appreciation Tailgating Party!" Get ready to celebrate the strength of our community and your unwavering support as a member of the Conifer Chamber of Commerce.\n\nIt's going to be a fantastic day filled with fun\, food\, and camaraderie!\n\n \nThis event is our way of saying thank you for your continued support and dedication to the Conifer Chamber of Commerce. We couldn't thrive without our amazing members and their families. Please let us know if you'll be joining us\, along with the number of family members who will be attending\, by registering here.\n\n\n\nWe are transforming the back of the office to a tailgating party so be prepared for any kind of weather. We will have the game on and lots of fun activities for everyone!
X-ALT-DESC;FMTTYPE=text/html:<div style="color: rgb(34\, 34\, 34)\; font-family: Arial\, Helvetica\, sans-serif\; font-size: small\;"><span style="color: rgb(55\, 65\, 81)\; font-family: Söhne\, ui-sans-serif\, system-ui\, -apple-system\, &quot\;Segoe UI&quot\;\, Roboto\, Ubuntu\, Cantarell\, &quot\;Noto Sans&quot\;\, sans-serif\, &quot\;Helvetica Neue&quot\;\, Arial\, &quot\;Apple Color Emoji&quot\;\, &quot\;Segoe UI Emoji&quot\;\, &quot\;Segoe UI Symbol&quot\;\, &quot\;Noto Color Emoji&quot\;\; font-size: 16px\; white-space: pre-wrap\;">Join us for an unforgettable day of appreciation and Broncos spirit at our <strong>&quot\;Mile High plus 3K Member Appreciation Tailgating Party!&quot\;</strong> Get ready to celebrate the strength of our community and your unwavering support as a member of the Conifer Chamber of Commerce.</span></div>\n\n<div style="color: rgb(34\, 34\, 34)\; font-family: Arial\, Helvetica\, sans-serif\; font-size: small\;"><span style="color: rgb(55\, 65\, 81)\; font-family: Söhne\, ui-sans-serif\, system-ui\, -apple-system\, &quot\;Segoe UI&quot\;\, Roboto\, Ubuntu\, Cantarell\, &quot\;Noto Sans&quot\;\, sans-serif\, &quot\;Helvetica Neue&quot\;\, Arial\, &quot\;Apple Color Emoji&quot\;\, &quot\;Segoe UI Emoji&quot\;\, &quot\;Segoe UI Symbol&quot\;\, &quot\;Noto Color Emoji&quot\;\; font-size: 16px\; white-space: pre-wrap\;">It&#39\;s going to be a fantastic day filled with fun\, food\, and camaraderie!</span></div>\n\n<div style="color: rgb(34\, 34\, 34)\; font-family: Arial\, Helvetica\, sans-serif\; font-size: small\;">&nbsp\;</div>\n<span style="color: rgb(34\, 34\, 34)\; font-family: Arial\, Helvetica\, sans-serif\; font-size: small\;"><span style="color: rgb(55\, 65\, 81)\; font-family: Söhne\, ui-sans-serif\, system-ui\, -apple-system\, &quot\;Segoe UI&quot\;\, Roboto\, Ubuntu\, Cantarell\, &quot\;Noto Sans&quot\;\, sans-serif\, &quot\;Helvetica Neue&quot\;\, Arial\, &quot\;Apple Color Emoji&quot\;\, &quot\;Segoe UI Emoji&quot\;\, &quot\;Segoe UI Symbol&quot\;\, &quot\;Noto Color Emoji&quot\;\; font-size: 16px\; white-space: pre-wrap\;">This event is our way of saying thank you for your continued support and dedication to the Conifer Chamber of Commerce. We couldn&#39\;t thrive without our amazing members and their families. </span><span style="color: rgb(55\, 65\, 81)\; font-family: Söhne\, ui-sans-serif\, system-ui\, -apple-system\, &quot\;Segoe UI&quot\;\, Roboto\, Ubuntu\, Cantarell\, &quot\;Noto Sans&quot\;\, sans-serif\, &quot\;Helvetica Neue&quot\;\, Arial\, &quot\;Apple Color Emoji&quot\;\, &quot\;Segoe UI Emoji&quot\;\, &quot\;Segoe UI Symbol&quot\;\, &quot\;Noto Color Emoji&quot\;\; font-size: 16px\; white-space: pre-wrap\;">Please let us know if you&#39\;ll be joining us\, along with the number of family members who will be attending\, by registering here.<br />\n<br />\nWe are transforming the back of the office to a tailgating party so be prepared for any kind of weather. We will have the game on and lots of fun activities for everyone!</span></span>
LOCATION:Conifer Area Chamber of Commerce 12424 Big Timber Dr. Conifer\, CO 80433
UID:e.692.40244
SEQUENCE:3
DTSTAMP:20260423T205556Z
URL:https://business.goconifer.com/events/details/member-appreciation-party-40244
END:VEVENT

END:VCALENDAR
