BEGIN:VCALENDAR
VERSION:2.0
PRODID:-//ChamberMaster//Event Calendar 2.0//EN
METHOD:PUBLISH
X-PUBLISHED-TTL:P3D
REFRESH-INTERVAL:P3D
CALSCALE:GREGORIAN
BEGIN:VEVENT
DTSTART:20250521T233000Z
DTEND:20250522T003000Z
X-MICROSOFT-CDO-ALLDAYEVENT:FALSE
SUMMARY:Meditative Sound Bath
DESCRIPTION:Join Brenda for a transformative vibrational mediation to harmonize emotions and thought patterns while soothing tensions in the body. Sensation is integrated with mindful intention to enliven energy centers and internal wisdom.\n\nREGISTER HERE: https://peaceworksinc.co/events?
X-ALT-DESC;FMTTYPE=text/html:Join Brenda for a transformative vibrational mediation to harmonize emotions and thought patterns while soothing tensions in the body. Sensation is integrated with mindful intention to enliven energy centers and internal wisdom.<br />\nREGISTER HERE:&nbsp\;<a href="https://peaceworksinc.co/events">https://peaceworksinc.co/events?</a>
LOCATION:Taspens: 25797 Conifer Rd C-130 Conifer CO 80433 REGISTER HERE: https://peaceworksinc.co/events?
UID:e.692.46815
SEQUENCE:3
DTSTAMP:20260425T214407Z
URL:https://business.goconifer.com/events/details/meditative-sound-bath-05-21-2025-46815
END:VEVENT

END:VCALENDAR
