BEGIN:VCALENDAR
VERSION:2.0
PRODID:-//ChamberMaster//Event Calendar 2.0//EN
METHOD:PUBLISH
X-PUBLISHED-TTL:P3D
REFRESH-INTERVAL:P3D
CALSCALE:GREGORIAN
BEGIN:VEVENT
DTSTART:20130226T003000Z
DTEND:20130226T013000Z
X-MICROSOFT-CDO-ALLDAYEVENT:FALSE
SUMMARY:Meditation and Spiritual Circle
DESCRIPTION:A weekly guided meditation followed by a spiritual connection circle (a moment to connect with like minded people in a safe environment to give and receive emotional support) and snacks.
X-ALT-DESC;FMTTYPE=text/html:A weekly guided meditation followed by a spiritual connection circle (a moment to connect with like minded people in a safe environment to give and receive emotional support) and snacks.
LOCATION:26267 Conifer Rd 3rd floor
UID:e.692.1420
SEQUENCE:3
DTSTAMP:20260424T101807Z
URL:https://business.goconifer.com/events/details/meditation-and-spiritual-circle-02-25-2013-1420
END:VEVENT

END:VCALENDAR
