BEGIN:VCALENDAR
VERSION:2.0
PRODID:-//ChamberMaster//Event Calendar 2.0//EN
METHOD:PUBLISH
X-PUBLISHED-TTL:P3D
REFRESH-INTERVAL:P3D
CALSCALE:GREGORIAN
BEGIN:VEVENT
DTSTART:20130828T163000Z
DTEND:20130828T180000Z
X-MICROSOFT-CDO-ALLDAYEVENT:FALSE
SUMMARY:Medicare 101 Presentation
DESCRIPTION:Are you confused about your Medicare Choices?\n\n	\n\n	Complimentary Medicare 101 Presentation\n\n	Location:  Evergreen Fire & Rescue community Center at 1802 Bergen Parkway in Evergreen\n\n	 \n\n	Seniors' Resource Center is hosting a complimentary Medicare 101 presentation for Seniors 65+ years of age and for people with disabilities on Wednesday\, August 28th from 10:30a   12:00p. Teri Howard\, a Gerontologist with Later Life Advocates will be presenting this valuable information.   If you are confused about your Medicare choices or you are a first time enrollee\, we invite you to attend our presentation that will help you understand the different parts of Medicare and the choices you have for managing your care. Learn the 'ins' and 'outs' of supplemental insurance\, prescription drug coverage and Medicare Advantage plans.\n\n	 \n\n	Please RSVP to Melanie at 303-674-2843 x 302 or mnuchols@SRCaging.org
X-ALT-DESC;FMTTYPE=text/html:<p class="MsoNormal" style="margin: 0in 0in 0pt\;">\n	<font color="#000000"><font face="Calibri"><b><span style="font-size: 10pt\;">Are you confused about your Medicare Choices?<br />\n	<br />\n	Complimentary Medicare 101 Presentation</span></b></font></font></p>\n<p class="MsoNormal" style="margin: 0in 0in 0pt\;">\n	<font color="#000000"><font face="Calibri"><b><span style="font-size: 10pt\;">Location: &nbsp\;Evergreen Fire &amp\; Rescue community Center at 1802 Bergen Parkway in Evergreen</span></b></font></font></p>\n<p class="MsoNormal" style="margin: 0in 0in 0pt\;">\n	<font color="#000000" face="Calibri" size="3">&nbsp\;</font></p>\n<p class="MsoNormal" style="margin: 0in 0in 0pt\;">\n	<font face="Calibri"><font color="#000000"><font size="3">Seniors&rsquo\; Resource Center is hosting a complimentary <b>Medicare 101</b> presentation for Seniors 65+ years of age and for people with disabilities on Wednesday\, August 28</font><sup><font size="2">th</font></sup><font size="3"> from 10:</font></font><font color="#000000"><font size="3">30</font></font><font size="3"><span style="color: rgb(31\, 73\, 125)\;">a</span></font><font size="3"><font color="#000000"> &ndash\; 12:</font><font color="#000000">00</font><span style="color: rgb(31\, 73\, 125)\;">p</span><font color="#000000">. Teri Howard\, a Gerontologist with Later Life Advocates will be presenting this valuable information. &nbsp\;&nbsp\;If you are confused about your Medicare choices or you are a first time enrollee\, we invite you to attend our presentation that will help you understand the different parts of Medicare and the choices you have for managing your care. Learn the &lsquo\;ins&rsquo\; and &lsquo\;outs&rsquo\; of supplemental insurance\, prescription drug coverage and Medicare Advantage plans.</font></font></font></p>\n<p class="MsoNormal" style="margin: 0in 0in 0pt\;">\n	<font color="#000000" face="Calibri" size="3">&nbsp\;</font></p>\n<p class="MsoNormal" style="margin: 0in 0in 0pt\;">\n	<font color="#000000" face="Calibri" size="3">P</font><font color="#000000" face="Calibri" size="3">lease RSVP to Melanie at 303-674-2843 x 302 or </font><a href="mailto:mnuchols@SRCaging.org"><font color="#0000ff" face="Calibri" size="3">mnuchols@SRCaging.org</font></a><font size="3"><font color="#000000"><font face="Calibri"> </font></font></font></p>\n
LOCATION:Evergreen Fire & Rescue Community Center 1802 Bergen Parkway\, Evergreen
UID:e.692.1511
SEQUENCE:3
DTSTAMP:20260424T020719Z
URL:https://business.goconifer.com/events/details/medicare-101-presentation-08-28-2013-1511
END:VEVENT

END:VCALENDAR
