BEGIN:VCALENDAR
VERSION:2.0
PRODID:-//ChamberMaster//Event Calendar 2.0//EN
METHOD:PUBLISH
X-PUBLISHED-TTL:P3D
REFRESH-INTERVAL:P3D
CALSCALE:GREGORIAN
BEGIN:VEVENT
DTSTART:20160423T210000Z
DTEND:20160423T233000Z
X-MICROSOFT-CDO-ALLDAYEVENT:FALSE
SUMMARY:Master Forgiveness: A Path to Emotional Freedom with Ana Medina
DESCRIPTION:Free yourself from fear\, anxiety\, worry\, guilt\, anger and any other feelings that weigh you down!\n\n \n\n*Improve all your relationships\n\n*Be happier in life\n\n*Get clarity on your path\n\n*Connect with your inner guidance\n\n*Improve your intuitive abilities\n\n*Free your mind and heart\n\n*Sleep better\n\n*Love and Be loved!\n\n \n\nWhen: Saturday\, April 23\, 2016 @ 3-5:30pm\n\nInvestment: $35 pre-reg\, $40 door- Please pre-register as space is limited!!\n\nRegister: On the Link Below\, Call us at (303) 816-0429\, -OR- Email us at info@taspens.com\n\n\nFree yourself from fear\, anxiety\, worry\, guilt\, anger and any other feelings that weigh you down!\n\n \n\n*Improve all your relationships\n\n*Be happier in life\n\n*Get clarity on your path\n\n*Connect with your inner guidance\n\n*Improve your intuitive abilities\n\n*Free your mind and heart\n\n*Sleep better\n\n*Love and Be loved!\n\n \n\nWhen: Saturday\, April 23\, 2016 @ 3-5:30pm\n\nInvestment: $35 pre-reg\, $40 door- Please pre-register as space is limited!!\n\nRegister: On the Link Below\, Call us at (303) 816-0429\, -OR- Email us at info@taspens.com
X-ALT-DESC;FMTTYPE=text/html:<div>\n<div>Free yourself from fear\, anxiety\, worry\, guilt\, anger and any other feelings that weigh you down!</div>\n\n<div>&nbsp\;</div>\n\n<div>*Improve all your relationships</div>\n\n<div>*Be happier in life</div>\n\n<div>*Get clarity on your path</div>\n\n<div>*Connect with your inner guidance</div>\n\n<div>*Improve your intuitive abilities</div>\n\n<div>*Free your mind and heart</div>\n\n<div>*Sleep better</div>\n\n<div>*Love and Be loved!</div>\n\n<div>&nbsp\;</div>\n\n<div><span style="color:#008080"><strong>When:</strong></span> Saturday\, April 23\, 2016 @ 3-5:30pm\n\n<p><span style="color:#008080"><strong>Investment:</strong></span> $35 pre-reg\, $40 door- Please pre-register as space is limited!!</p>\n\n<p><span style="color:#008080"><strong>Register:</strong></span> On the Link Below\, Call us at (303) 816-0429\, -OR- Email us at <a href="mailto:info@taspens.com" target="_blank">info@taspens.com</a></p>\n\n<div>\n<div>Free yourself from fear\, anxiety\, worry\, guilt\, anger and any other feelings that weigh you down!</div>\n\n<div>&nbsp\;</div>\n\n<div>*Improve all your relationships</div>\n\n<div>*Be happier in life</div>\n\n<div>*Get clarity on your path</div>\n\n<div>*Connect with your inner guidance</div>\n\n<div>*Improve your intuitive abilities</div>\n\n<div>*Free your mind and heart</div>\n\n<div>*Sleep better</div>\n\n<div>*Love and Be loved!</div>\n\n<div>&nbsp\;</div>\n\n<div><span style="color:#008080"><strong>When:</strong></span> Saturday\, April 23\, 2016 @ 3-5:30pm\n\n<p><span style="color:#008080"><strong>Investment:</strong></span> $35 pre-reg\, $40 door- Please pre-register as space is limited!!</p>\n\n<p><span style="color:#008080"><strong>Register:</strong></span> On the Link Below\, Call us at (303) 816-0429\, -OR- Email us at <a href="mailto:info@taspens.com" target="_blank">info@taspens.com</a></p>\n</div>\n</div>\n\n<p>&nbsp\;</p>\n</div>\n</div>\n
LOCATION:Taspen's Organics & Holistic Wellness Center 12424 Big Timber Drive Conifer\, CO 80433
UID:e.692.17216
SEQUENCE:3
DTSTAMP:20260422T000924Z
URL:https://business.goconifer.com/events/details/master-forgiveness-a-path-to-emotional-freedom-with-ana-medina-04-23-2016-17216
END:VEVENT

END:VCALENDAR
