BEGIN:VCALENDAR
VERSION:2.0
PRODID:-//ChamberMaster//Event Calendar 2.0//EN
METHOD:PUBLISH
X-PUBLISHED-TTL:P3D
REFRESH-INTERVAL:P3D
CALSCALE:GREGORIAN
BEGIN:VEVENT
DTSTART:20141030T000000Z
DTEND:20141030T010000Z
X-MICROSOFT-CDO-ALLDAYEVENT:FALSE
SUMMARY:$marter Women Colorado...What they didn't teach us about money
DESCRIPTION:Two people can save the same amount of money\, grow it in different ways and have drastic differences in the final amount for retirement.  Learn the basics and optimize your earnings for future income. \n\nFree class presented by Pat Frederiksen.  RSVP 303-919-1020.  Women only!
X-ALT-DESC;FMTTYPE=text/html:Two people can save the same amount of money\, grow it in different ways and have drastic differences in the final amount for retirement.&nbsp\; Learn the basics and optimize your earnings for future income.&nbsp\;<br />\n<u>Free</u> class presented by Pat Frederiksen.&nbsp\; RSVP 303-919-1020.&nbsp\; Women only!
LOCATION:Aspen Park Chiropractic Office on the upper level of Staples Plaza
UID:e.692.5402
SEQUENCE:3
DTSTAMP:20260423T062556Z
URL:https://business.goconifer.com/events/details/marter-women-colorado-what-they-didn-t-teach-us-about-money-10-29-2014-5402
END:VEVENT

END:VCALENDAR
