BEGIN:VCALENDAR
VERSION:2.0
PRODID:-//ChamberMaster//Event Calendar 2.0//EN
METHOD:PUBLISH
X-PUBLISHED-TTL:P3D
REFRESH-INTERVAL:P3D
CALSCALE:GREGORIAN
BEGIN:VEVENT
DTSTART:20140918T000000Z
DTEND:20140918T010000Z
X-MICROSOFT-CDO-ALLDAYEVENT:FALSE
SUMMARY:$marter Women Colorado...What they didn't teach us
DESCRIPTION:We all save money\, but where you put it and how you invest makes the difference in your retirement income. Find out what they didn't teach us in school.\n\nRSVP to Pat Frederiksen 303-919-1020 or patf@comcast.net
X-ALT-DESC;FMTTYPE=text/html:We all save money\, but where you put it and how you invest makes the difference in your retirement income. Find out what they didn&#39\;t teach us in school.<br />\nRSVP to Pat Frederiksen 303-919-1020 or patf@comcast.net
LOCATION:Aspen Park Chiropractic\, 10903 Hwy. 285\, Ste. E203\, Conifer (Old Safeway Plaza or Staples Plaza)
UID:e.692.3358
SEQUENCE:3
DTSTAMP:20260423T092016Z
URL:https://business.goconifer.com/events/details/marter-women-colorado-what-they-didn-t-teach-us-09-17-2014-3358
END:VEVENT

END:VCALENDAR
