BEGIN:VCALENDAR
VERSION:2.0
PRODID:-//ChamberMaster//Event Calendar 2.0//EN
METHOD:PUBLISH
X-PUBLISHED-TTL:P3D
REFRESH-INTERVAL:P3D
CALSCALE:GREGORIAN
BEGIN:VEVENT
DTSTART:20141107T010000Z
DTEND:20141107T020000Z
X-MICROSOFT-CDO-ALLDAYEVENT:FALSE
SUMMARY:$marter Women Colorado...Social Security
DESCRIPTION:Did you know there's much more to maximizing your Social Security benefit than choosing a benefit start date?  Should you file and suspend?  Do you have an ex-spouse\, current spouse or widow benefit you should consider?  Come learn about all of your options and make the most of your earned benefit.\n\nFree class presented by Pat Frederiksen. RSVP 303-919-1020. Women only!
X-ALT-DESC;FMTTYPE=text/html:Did you know there&#39\;s much more to maximizing your Social Security benefit than choosing a benefit start date?&nbsp\; Should you file and suspend?&nbsp\; Do you have an ex-spouse\, current spouse or widow benefit you should consider?&nbsp\; Come learn about all of your options and make the most of your earned benefit.<br />\n<u>Free</u> class presented by Pat Frederiksen. RSVP 303-919-1020. Women only!
LOCATION:Aspen Park Chiropractic Office on the upper level of Staples Plaza
UID:e.692.5403
SEQUENCE:3
DTSTAMP:20260423T044535Z
URL:https://business.goconifer.com/events/details/marter-women-colorado-social-security-11-06-2014-5403
END:VEVENT

END:VCALENDAR
