BEGIN:VCALENDAR
VERSION:2.0
PRODID:-//ChamberMaster//Event Calendar 2.0//EN
METHOD:PUBLISH
X-PUBLISHED-TTL:P3D
REFRESH-INTERVAL:P3D
CALSCALE:GREGORIAN
BEGIN:VEVENT
DTSTART:20140924T000000Z
DTEND:20140924T010000Z
X-MICROSOFT-CDO-ALLDAYEVENT:FALSE
SUMMARY:$marter Women Colorado...Social Security
DESCRIPTION:There is more to Social Security than when to take it-62 or 70.  Learn how to make the most of your earned benefit.\n\nRSVP to Pat Frederiken at 303-919-1020 or patf@comcast.net
X-ALT-DESC;FMTTYPE=text/html:There is more to Social Security than when to take it-62 or 70.&nbsp\; Learn how to make the most of your earned benefit.<br />\nRSVP to Pat Frederiken at 303-919-1020 or patf@comcast.net
LOCATION:Aspen Park Chiropractic\, 10903 Hwy. 285\, Ste. E203\, Conifer (Old Safeway Plaza or Staples Plaza)
UID:e.692.3359
SEQUENCE:3
DTSTAMP:20260423T074207Z
URL:https://business.goconifer.com/events/details/marter-women-colorado-social-security-09-23-2014-3359
END:VEVENT

END:VCALENDAR
