BEGIN:VCALENDAR
VERSION:2.0
PRODID:-//ChamberMaster//Event Calendar 2.0//EN
METHOD:PUBLISH
X-PUBLISHED-TTL:P3D
REFRESH-INTERVAL:P3D
CALSCALE:GREGORIAN
BEGIN:VEVENT
DTSTART:20140916T000000Z
DTEND:20140916T010000Z
X-MICROSOFT-CDO-ALLDAYEVENT:FALSE
SUMMARY:$marter Women Colorado...Social Security
DESCRIPTION:There is more to Social Security than should you take it at 62 or 70.  Learn how you may make the most of your earned benefit. \n\nRSVP to Pat Frederiksen at 303-919-1020 or patf@comast.net
X-ALT-DESC;FMTTYPE=text/html:There is more to Social Security than should you take it at 62 or 70.&nbsp\; Learn how you may make the most of your earned benefit.&nbsp\;<br />\nRSVP to Pat Frederiksen at 303-919-1020 or patf@comast.net
LOCATION:Mountain Peace Boutique\, 60615 Hwy. 285\, Bailey (by Knotty Pine)
UID:e.692.3357
SEQUENCE:3
DTSTAMP:20260423T074151Z
URL:https://business.goconifer.com/events/details/marter-women-colorado-social-security-09-15-2014-3357
END:VEVENT

END:VCALENDAR
