BEGIN:VCALENDAR
VERSION:2.0
PRODID:-//ChamberMaster//Event Calendar 2.0//EN
METHOD:PUBLISH
X-PUBLISHED-TTL:P3D
REFRESH-INTERVAL:P3D
CALSCALE:GREGORIAN
BEGIN:VEVENT
DTSTART:20160407T230000Z
DTEND:20160408T003000Z
X-MICROSOFT-CDO-ALLDAYEVENT:FALSE
SUMMARY:Marshdale Park Community Meetings
DESCRIPTION:Evergreen Park & Recreation District is holding two community meetings to provide information and get feedback about a 2016 park improvement project. Join us!\n\n\n\nMarch 10 and April 7\n\n5 6:30 PM\n\n\n\nMarshdale Park\, 26663 N Turkey Creek Rd\, Evergreen\n\n(Marshdale Elementary School Cafeteria if inclement weather)
X-ALT-DESC;FMTTYPE=text/html:<span style="color:rgb(20\, 24\, 35)\; font-family:helvetica\,arial\,sans-serif\; font-size:14px">Evergreen Park &amp\; Recreation District is holding two community meetings to provide information and get feedback about a 2016 park improvement project. Join us!</span><br />\n<br />\n<span style="color:rgb(20\, 24\, 35)\; font-family:helvetica\,arial\,sans-serif\; font-size:14px">March 10 and April 7</span><br />\n<span style="color:rgb(20\, 24\, 35)\; font-family:helvetica\,arial\,sans-serif\; font-size:14px">5&ndash\;6:30 PM</span><br />\n<br />\n<span style="color:rgb(20\, 24\, 35)\; font-family:helvetica\,arial\,sans-serif\; font-size:14px">Marshdale Park\, 26663 N Turkey Creek Rd\, Evergreen</span><br />\n<span style="color:rgb(20\, 24\, 35)\; font-family:helvetica\,arial\,sans-serif\; font-size:14px">(Marshdale Elementary School Cafeteria if inclement weather)</span>
LOCATION:Marshdale Park\, 26663 N Turkey Creek Rd\, Evergreen
UID:e.692.17122
SEQUENCE:3
DTSTAMP:20260422T012037Z
URL:https://business.goconifer.com/events/details/marshdale-park-community-meetings-04-07-2016-17122
END:VEVENT

END:VCALENDAR
