BEGIN:VCALENDAR
VERSION:2.0
PRODID:-//ChamberMaster//Event Calendar 2.0//EN
METHOD:PUBLISH
X-PUBLISHED-TTL:P3D
REFRESH-INTERVAL:P3D
CALSCALE:GREGORIAN
BEGIN:VEVENT
DTSTART;VALUE=DATE:20140720
DTEND;VALUE=DATE:20140721
TRANSP:TRANSPARENT
X-MICROSOFT-CDO-ALLDAYEVENT:TRUE
SUMMARY:Marmot Fest
DESCRIPTION:Staunton State Park presents Marmot Fest!\n\nSaturday\, July 19th and Sunday\, July 20th\n\n\n\n Guided Marmot Meander Hike\, both days\, 8:30 am\n\nHike out early and see the marmots in their natural habitats. Meet near the Group Picnic Area\n\n\n\nMarmot Observation Sites - both days\, 8:30 and 11 a.m.\n\nVisit sites with nature guides on Staunton Ranch Trail\, Climbing Access Trail and at Elk Falls Pond (Hike out on Staunton Ranch Trail).\n\n\n\n"All About Marmots" Activities for Children & Families\, both days\, 10 a.m. to 3 p.m.\n\nMake marmot t-shirts\, marmot puppets\, and marmot/ predator masks. Explore a marmot habitat\, spot marmots with binoculars\, solve marmot/predator puzzles and explore skins and skulls. On Staunton Ranch Trail\, just past Group Picnic (GPA) parking area.\n\n\n\nSelf-guided Marmot vs. Dog Challenge - both days\, 10 a.m. to 3 p.m.\n\nAlong Staunton Ranch Trail.
X-ALT-DESC;FMTTYPE=text/html:Staunton State Park presents Marmot Fest!<br />\nSaturday\, July&nbsp\;19th&nbsp\;and Sunday\, July&nbsp\;20th<br />\n<br />\n&#8203\;Guided Marmot Meander Hike\, both days\, 8:30 am<br />\nHike out early and see the marmots in their natural habitats. Meet near the Group Picnic Area<br />\n<br />\nMarmot Observation Sites - both days\, 8:30 and 11 a.m.<br />\nVisit sites with nature guides on Staunton Ranch Trail\, Climbing Access Trail and at Elk Falls Pond (Hike out on Staunton Ranch Trail).<br />\n<br />\n&quot\;All About Marmots&quot\; Activities for Children &amp\; Families\, both days\, 10 a.m. to 3 p.m.<br />\nMake marmot t-shirts\, marmot puppets\, and marmot/ predator masks. Explore a marmot habitat\, spot marmots with binoculars\, solve marmot/predator puzzles and explore skins and skulls. On Staunton Ranch Trail\, just past Group Picnic (GPA) parking area.<br />\n<br />\nSelf-guided Marmot vs. Dog Challenge - both days\, 10 a.m. to 3 p.m.<br />\nAlong Staunton Ranch Trail.
LOCATION:Staunton State Park\, 12102 S. Elk Creek Road\, Pine\, CO\, 80470
UID:e.692.3274
SEQUENCE:3
DTSTAMP:20260423T103914Z
URL:https://business.goconifer.com/events/details/marmot-fest-07-20-2014-3274
END:VEVENT

END:VCALENDAR
