BEGIN:VCALENDAR
VERSION:2.0
PRODID:-//ChamberMaster//Event Calendar 2.0//EN
METHOD:PUBLISH
X-PUBLISHED-TTL:P3D
REFRESH-INTERVAL:P3D
CALSCALE:GREGORIAN
BEGIN:VEVENT
DTSTART:20200401T180000Z
DTEND:20200401T193000Z
X-MICROSOFT-CDO-ALLDAYEVENT:FALSE
SUMMARY:Marketing Meeting - CACC
DESCRIPTION:
X-ALT-DESC;FMTTYPE=text/html:
LOCATION:Chamber Conference Room
UID:e.692.28444
SEQUENCE:3
DTSTAMP:20260426T015433Z
URL:https://business.goconifer.com/events/details/marketing-meeting-cacc-04-01-2020-28444
END:VEVENT

END:VCALENDAR
