BEGIN:VCALENDAR
VERSION:2.0
PRODID:-//ChamberMaster//Event Calendar 2.0//EN
METHOD:PUBLISH
X-PUBLISHED-TTL:P3D
REFRESH-INTERVAL:P3D
CALSCALE:GREGORIAN
BEGIN:VEVENT
DTSTART:20110828T150000Z
DTEND:20110829T000000Z
X-MICROSOFT-CDO-ALLDAYEVENT:FALSE
SUMMARY:MarketDayz Arts\, Antiques\, Collectibles\, Crafts\, Flea Market and Farmer's Mart
DESCRIPTION:Bring your friends and shopping bags for a new tradition of\n\nMountain Sun and Outdoor Shopping Fun!\n\n\n\nJust ¼ mile off of US Highway 285 in Conifer\n\n11369 S. Foxton Road\, Conifer\, CO 303-838-3705\n\nOn-site parking available\n\n\n\nSunday\, August 28\, 2011\n\n9 a.m. - 6 p.m.\n\n\n\nalso\n\nMay 29 * June 26 * July 24 * September 25\n\n\n\nFree Admission!\n\n\n\nPremium parking -- $3\n\nPerimeter parking -- free\n\nDogs on leash welcome.\n\n\n\nVendors and Exhibitors:\n\n$100 per day for market vendors\n\n$150 per day for food vendors/farmer's mart\n\n$25 flea market tables\n\n\n\nFor information and vendor registration\, call 303-697-8123 or click on the vendor registration link at www.ConiferCommunityPark.org.  For ticket information or general questions\, visit www.ConiferCommunityPark.org\, call 303-697-8123 or email info@ConiferCommunityPark.org.
X-ALT-DESC;FMTTYPE=text/html:Bring your friends and shopping bags for a new tradition of\n<br>Mountain Sun and Outdoor Shopping Fun!\n<br>\n<br>Just ¼ mile off of US Highway 285 in Conifer\n<br>11369 S. Foxton Road\, Conifer\, CO 303-838-3705\n<br>On-site parking available\n<br>\n<br>Sunday\, August 28\, 2011\n<br>9 a.m. - 6 p.m.\n<br>\n<br>also\n<br>May 29 * June 26 * July 24 * September 25\n<br>\n<br>Free Admission!\n<br>\n<br>Premium parking -- $3\n<br>Perimeter parking -- free\n<br>Dogs on leash welcome.\n<br>\n<br>Vendors and Exhibitors:\n<br>$100 per day for market vendors\n<br>$150 per day for food vendors/farmer's mart\n<br>$25 flea market tables\n<br>\n<br>For information and vendor registration\, call 303-697-8123 or click on the vendor registration link at www.ConiferCommunityPark.org.  For ticket information or general questions\, visit www.ConiferCommunityPark.org\, call 303-697-8123 or email info@ConiferCommunityPark.org. 
LOCATION:Conifer Community Park at Beaver Ranch 11369 S. Foxton Road Conifer\, CO 80433
UID:e.692.1133
SEQUENCE:3
DTSTAMP:20260425T113114Z
URL:https://business.goconifer.com/events/details/marketdayz-arts-antiques-collectibles-crafts-flea-market-and-farmer-s-mart-08-28-2011-1133
END:VEVENT

END:VCALENDAR
