BEGIN:VCALENDAR
VERSION:2.0
PRODID:-//ChamberMaster//Event Calendar 2.0//EN
METHOD:PUBLISH
X-PUBLISHED-TTL:P3D
REFRESH-INTERVAL:P3D
CALSCALE:GREGORIAN
BEGIN:VEVENT
DTSTART:20200301T170000Z
DTEND:20200301T210000Z
X-MICROSOFT-CDO-ALLDAYEVENT:FALSE
SUMMARY:MAMMA MIA! Auditions @ StageDoor Theatre
DESCRIPTION:The Story: A hilarious story of a young woman's search for her birth father in a tale that unfolds on a Greek island paradise.\n\nThe Dates: February 29\, 2:30 pm   6:30 pm at Conifer Community Church\, 9998 Havekost Road\, Conifer CO\, 80433.\n\nMarch 1\, 10:00 am   2:00 pm at StageDoor Theatre\, Black Box Space\, 25797 Conifer Road\, Conifer CO 80433.\n\nCallbacks:  March 1\, 3:00   7:00 pm at Conifer Community Church\, 9998 Havekost Road\, Conifer CO 80433.\n\nThe show runs Friday and Saturday evenings\, July 10   August 2. Maitnees are scheduled for 7/18\, 7/25\, and 8/2. Rehearsals will begin mid-May. Please provide a resum \, headshot and any schedule conflicts at your audition. \n\nEmail director Justin Johnson\, jjohnson@stagedoortheatre.org\, with a couple of preferred audition times. For this production\, we do not have specific gender\, racial\, ethnic\, size or ability criteria for any roles. The only requirement is that all cast members be 16 years or older.\n\nFor more information (show synopsis\, compensation\, character descriptions\, chorus needs\, etc)\, visit www.stagedoortheatre.org.
X-ALT-DESC;FMTTYPE=text/html:<strong><span style="font-family:bookman old style">The Story:</span></strong><span style="font-family:bookman old style">&nbsp\;A hilarious story of a young woman&#39\;s search for her birth father in a tale that unfolds on a Greek island paradise.</span><br />\n<strong><span style="font-family:bookman old style">The Dates: February 29\,&nbsp\;</span></strong><span style="font-family:bookman old style">2:30 pm &ndash\; 6:30 pm at Conifer Community Church\, 9998 Havekost Road\, Conifer CO\, 80433.</span><br />\n<strong><span style="font-family:bookman old style">March 1\,&nbsp\;</span></strong><span style="font-family:bookman old style">10:00 am &ndash\; 2:00 pm at StageDoor Theatre\, Black Box Space\, 25797 Conifer Road\, Conifer CO 80433.</span><br />\n<strong><span style="font-family:bookman old style">Callbacks:&nbsp\;</span></strong><span style="font-family:bookman old style">&nbsp\;March 1\,&nbsp\;<strong>3:00 &ndash\; 7:00 pm&nbsp\;</strong>at Conifer Community Church\, 9998 Havekost Road\, Conifer CO 80433.</span><br />\n<span style="font-family:bookman old style">The show runs Friday and Saturday evenings\, July 10 &ndash\; August 2. Maitnees are scheduled for 7/18\, 7/25\, and 8/2. Rehearsals will begin mid-May. Please provide a resum&eacute\;\, headshot and any schedule conflicts at your audition.&nbsp\;</span><br />\n<span style="font-family:bookman old style">Email director Justin Johnson\,&nbsp\;jjohnson@stagedoortheatre.org\, with a couple of preferred audition times. For this production\, we do not have specific gender\, racial\, ethnic\, size or ability criteria for any roles. The only requirement is that all cast members be 16 years or older.</span><br />\n<span style="font-family:bookman old style">For more information (show synopsis\, compensation\, character descriptions\, chorus needs\, etc)\, visit&nbsp\;<a href="http://www.stagedoortheatre.org/" style="color:purple\;">www.stagedoortheatre.org</a>.</span>
LOCATION:February 29 - 2:30pm - 6:30 pm at Conifer Community Church\, 9998 Havekost Road\, Conifer CO 80433. March1 - 10:00 am - 2:00 pm at StageDoor Theatre Black Box Space\, 25797 Conifer Road\, Conifer CO 80433. March 1 - 3:00 pm - 7:00 pm Callbacks at Conifer Community Church\, 9998 Havekost Road\, Conifer CO 80433.
UID:e.692.30040
SEQUENCE:3
DTSTAMP:20260426T033616Z
URL:https://business.goconifer.com/events/details/mamma-mia-auditions-stagedoor-theatre-03-01-2020-30040
END:VEVENT

END:VCALENDAR
