BEGIN:VCALENDAR
VERSION:2.0
PRODID:-//ChamberMaster//Event Calendar 2.0//EN
METHOD:PUBLISH
X-PUBLISHED-TTL:P3D
REFRESH-INTERVAL:P3D
CALSCALE:GREGORIAN
BEGIN:VEVENT
DTSTART:20160524T160000Z
DTEND:20160524T180000Z
X-MICROSOFT-CDO-ALLDAYEVENT:FALSE
SUMMARY:LWV to review legislative year
DESCRIPTION:Members of the nonpartisan League of Women Voters of Jefferson County will review the recent Legislative year at its six public unit meetings May 24-26. The League's Legislative Action Committee and staff lobbyist Christine Watson followed more than 100 bills through the Colorado General Assembly this year. Bills covered voting rights\, gun control\, health care\, higher education\, children's issues\, fiscal opportunity\, income assistance and reproductive choice. Learn how new laws will affect you. The League meets in the foothills at 10 a.m. Tuesday\, May 24\, at a member's home. Call Janet at 303-674-7755 for information/directions. An evening meeting also is available\; call 720-254-5741.
X-ALT-DESC;FMTTYPE=text/html:Members of the nonpartisan League of Women Voters of Jefferson County will review the recent Legislative year at its six public unit meetings May 24-26. The League&#39\;s Legislative Action Committee and staff lobbyist Christine Watson followed more than 100 bills through the Colorado General Assembly this year. Bills covered voting rights\, gun control\, health care\, higher education\, children&#39\;s issues\, fiscal opportunity\, income assistance and reproductive choice. Learn how new laws will affect you. The League meets in the foothills at 10 a.m. Tuesday\, May 24\, at a member&#39\;s home. Call Janet at 303-674-7755 for information/directions. An evening meeting also is available\; call 720-254-5741.
LOCATION:Call 303-674-7755 for directions to private residence in Evergreen
UID:e.692.17981
SEQUENCE:3
DTSTAMP:20260421T224354Z
URL:https://business.goconifer.com/events/details/lwv-to-review-legislative-year-05-24-2016-17981
END:VEVENT

END:VCALENDAR
