BEGIN:VCALENDAR
VERSION:2.0
PRODID:-//ChamberMaster//Event Calendar 2.0//EN
METHOD:PUBLISH
X-PUBLISHED-TTL:P3D
REFRESH-INTERVAL:P3D
CALSCALE:GREGORIAN
BEGIN:VEVENT
DTSTART:20130529T173000Z
DTEND:20130529T193000Z
X-MICROSOFT-CDO-ALLDAYEVENT:FALSE
SUMMARY:Lunch & Learn: Social Media: Linked In\, Hootsuite\, Pinterest & More!
DESCRIPTION:Increase your knowledge of Linked In\, Pinterest\, and HootSuite with Social Media Maiden\, Heather Galaska!
X-ALT-DESC;FMTTYPE=text/html:<span style="font-weight: bold\; language: EN\;"><span style="font-size: 9pt\;"><span style="font-family: arial\;"><span style="color: rgb(255\, 51\, 0)\;">Increase your knowledge of Linked In\, Pinterest\, and HootSuite with Social Media Maiden\, Heather Galaska!</span></span></span></span><br />\n&nbsp\;<br />\n
LOCATION:At Conifer Community Church. 9998 S. Havecost Rd.
UID:e.692.1466
SEQUENCE:3
DTSTAMP:20260424T055344Z
URL:https://business.goconifer.com/events/details/lunch-learn-social-media-linked-in-hootsuite-pinterest-more-05-29-2013-1466
END:VEVENT

END:VCALENDAR
