BEGIN:VCALENDAR
VERSION:2.0
PRODID:-//ChamberMaster//Event Calendar 2.0//EN
METHOD:PUBLISH
X-PUBLISHED-TTL:P3D
REFRESH-INTERVAL:P3D
CALSCALE:GREGORIAN
BEGIN:VEVENT
DTSTART:20250513T180000Z
DTEND:20250513T190000Z
X-MICROSOFT-CDO-ALLDAYEVENT:FALSE
SUMMARY:Lunch and Learn: Maximize Google Business Profile
DESCRIPTION:Claiming your Google Business Profile is one of the best thing you can do to improve your Search Engine Optimization (SEO) and make it easier for people to find you online. This FREE offering from Google can be challenging to take advantage of if you are not familiar with the ins and outs but in this Lunch and Learn\, we will claim\, optimize and hopefully even verify your business!
X-ALT-DESC;FMTTYPE=text/html:<span style="color: rgb(34\, 34\, 34)\; font-family: Arial\, Helvetica\, sans-serif\; font-size: small\;">Claiming your Google Business Profile is one of the best thing you can do to improve your Search Engine Optimization (SEO) and make it easier for people to find you online. This FREE offering from Google can be challenging to take advantage of if you are not familiar with the ins and outs but in this Lunch and Learn\, we will claim\, optimize and hopefully even verify your business!&nbsp\;</span>
LOCATION:Presented at the Conifer Area Chamber of Commerce office. Located at 12424 Big Timber Drive\, Unit 5\, Conifer\, CO 80433
UID:e.692.46824
SEQUENCE:3
DTSTAMP:20260425T215318Z
URL:https://business.goconifer.com/events/details/lunch-and-learn-maximize-google-business-profile-46824
END:VEVENT

END:VCALENDAR
