BEGIN:VCALENDAR
VERSION:2.0
PRODID:-//ChamberMaster//Event Calendar 2.0//EN
METHOD:PUBLISH
X-PUBLISHED-TTL:P3D
REFRESH-INTERVAL:P3D
CALSCALE:GREGORIAN
BEGIN:VEVENT
DTSTART:20180818T160000Z
DTEND:20180818T220000Z
X-MICROSOFT-CDO-ALLDAYEVENT:FALSE
SUMMARY:Luna's Om Saturday
DESCRIPTION:Join us Saturday\, August 18th from 10-4 for our Monthly Om Saturday Event.  LeAnn will be joining us doing Tarot Readings ($1/minute) and Rich will be joining us for mini-acupuncture.  Young Living Oil Infused Water and Gluten Free Snacks will be available.
X-ALT-DESC;FMTTYPE=text/html:<h2 style="font-style:italic\;"><strong>Join us Saturday\, August 18th from 10-4 for our Monthly Om Saturday Event. &nbsp\;LeAnn will be joining us doing Tarot Readings ($1/minute) and Rich will be joining us for mini-acupuncture. &nbsp\;Young Living Oil Infused Water and Gluten Free Snacks will be available.</strong></h2>\n
LOCATION:Luna's Mandala Aspen Park Village Shopping Center 25797 Conifer Rd.\, B-204 Conifer\, CO. 80433
UID:e.692.25683
SEQUENCE:3
DTSTAMP:20260421T063131Z
URL:https://business.goconifer.com/events/details/luna-s-om-saturday-08-18-2018-25683
END:VEVENT

END:VCALENDAR
