BEGIN:VCALENDAR
VERSION:2.0
PRODID:-//ChamberMaster//Event Calendar 2.0//EN
METHOD:PUBLISH
X-PUBLISHED-TTL:P3D
REFRESH-INTERVAL:P3D
CALSCALE:GREGORIAN
BEGIN:VEVENT
DTSTART:20140712T140000Z
DTEND:20140712T220000Z
X-MICROSOFT-CDO-ALLDAYEVENT:FALSE
SUMMARY:Lost Creek Trail Restoration in Mt. Evans Wilderness
DESCRIPTION:Volunteers needed to clear trees from trail corridor in the Mt. Evans Wilderness\, near Evergreen. Spend a day giving back to the Colorado outdoors you love. Join Volunteers for Outdoor Colorado as we restore sections of the Lost Creek Trail in the Mount Evans Wilderness after it was damaged by recent flooding. Volunteers will install drainage structures to ensure the continued sustainability of the trail. Learn more and register at http://www.voc.org/project/lost-creek-trail-construction-mt-evans-wilderness or call 303-715-1010. Free to participate\; minimum age: 18.
X-ALT-DESC;FMTTYPE=text/html:Volunteers needed to clear trees from trail corridor in the Mt. Evans Wilderness\, near Evergreen. Spend a day giving back to the Colorado outdoors you love. Join Volunteers for Outdoor Colorado as we restore sections of the Lost Creek Trail in the Mount Evans Wilderness after it was damaged by recent flooding. Volunteers will install drainage structures to ensure the continued sustainability of the trail. Learn more and register at http://www.voc.org/project/lost-creek-trail-construction-mt-evans-wilderness or call 303-715-1010. Free to participate\; minimum age: 18.
LOCATION:Evergreen\, CO
UID:e.692.3016
SEQUENCE:3
DTSTAMP:20260423T104223Z
URL:https://business.goconifer.com/events/details/lost-creek-trail-restoration-in-mt-evans-wilderness-07-12-2014-3016
END:VEVENT

END:VCALENDAR
