BEGIN:VCALENDAR
VERSION:2.0
PRODID:-//ChamberMaster//Event Calendar 2.0//EN
METHOD:PUBLISH
X-PUBLISHED-TTL:P3D
REFRESH-INTERVAL:P3D
CALSCALE:GREGORIAN
BEGIN:VEVENT
DTSTART:20160225T003000Z
DTEND:20160225T020000Z
X-MICROSOFT-CDO-ALLDAYEVENT:FALSE
SUMMARY:Long Term Care Planning
DESCRIPTION:Make the most of tomorrow by making smart choices today!\nAs we age\, our needs to live day-to-day often increase\, and they may be costly for you and your family. Now is the time to start planning who will take care of you when you need it most. A Long-Term Care Insurance policy  may be a valuable part of your retirement planning. It may help protect all you've worked for your home\, your savings\, your legacy giving you the means to afford the kind of care you may need\, in the manner in which you choose. Please join us for this part of the education series at Centennial Bank in Conifer.
X-ALT-DESC;FMTTYPE=text/html:Make the most of tomorrow by making smart choices today!\n<p>As we age\, our needs to live day-to-day often increase\, and they may be costly for you and your family. <strong>Now is the time to start planning who will take care of you when you need it most. </strong>A Long-Term Care Insurance policy&nbsp\; may be a valuable part of your retirement planning. It may help protect all you&rsquo\;ve worked for&mdash\;your home\, your savings\, your legacy&mdash\;giving you the means to afford the kind of care you may need\, in the manner in which you choose. Please join us for this part of the education series at Centennial Bank in Conifer.</p>\n
LOCATION:Centennial Bank - 26679 Pleasant Park Rd\, Conifer\, CO 80433
UID:e.692.17103
SEQUENCE:3
DTSTAMP:20260422T030445Z
URL:https://business.goconifer.com/events/details/long-term-care-planning-02-24-2016-17103
END:VEVENT

END:VCALENDAR
