BEGIN:VCALENDAR
VERSION:2.0
PRODID:-//ChamberMaster//Event Calendar 2.0//EN
METHOD:PUBLISH
X-PUBLISHED-TTL:P3D
REFRESH-INTERVAL:P3D
CALSCALE:GREGORIAN
BEGIN:VEVENT
DTSTART;VALUE=DATE:20101203
DTEND;VALUE=DATE:20101204
TRANSP:TRANSPARENT
X-MICROSOFT-CDO-ALLDAYEVENT:TRUE
SUMMARY:Live Music at Route 285 Sports Bar & Grill
DESCRIPTION:Kick To The Curb live tonight starting at 9p!\n\nHappy Hour specials from 2p - 6p
X-ALT-DESC;FMTTYPE=text/html:<em><strong>Kick To The Curb </strong></em>live tonight starting at 9p!<br />\nHappy Hour specials from 2p - 6p<br />\n<br />\n
LOCATION:11873 Springs Road Conifer\, CO
UID:e.692.823
SEQUENCE:3
DTSTAMP:20260424T212611Z
URL:https://business.goconifer.com/events/details/live-music-at-route-285-sports-bar-grill-12-03-2010-823
END:VEVENT

END:VCALENDAR
