BEGIN:VCALENDAR
VERSION:2.0
PRODID:-//ChamberMaster//Event Calendar 2.0//EN
METHOD:PUBLISH
X-PUBLISHED-TTL:P3D
REFRESH-INTERVAL:P3D
CALSCALE:GREGORIAN
BEGIN:VEVENT
DTSTART:20200312T143000Z
DTEND:20200312T233000Z
X-MICROSOFT-CDO-ALLDAYEVENT:FALSE
SUMMARY:Live Blood Analysis
DESCRIPTION:Are your energy levels low? Do you have cravings? Irregular digestion? \n\nBlood analysis with Denise Temple might be the right thing for you.
X-ALT-DESC;FMTTYPE=text/html:<span style="color:#000000">Are your energy levels low? Do you have cravings? Irregular&nbsp\;digestion?&nbsp\;<br />\nBlood analysis&nbsp\;with Denise Temple might be the right thing for you.&nbsp\;</span>
LOCATION:25797 Conifer Rd.
UID:e.692.30063
SEQUENCE:3
DTSTAMP:20260426T033116Z
URL:https://business.goconifer.com/events/details/live-blood-analysis-30063
END:VEVENT

END:VCALENDAR
