BEGIN:VCALENDAR
VERSION:2.0
PRODID:-//ChamberMaster//Event Calendar 2.0//EN
METHOD:PUBLISH
X-PUBLISHED-TTL:P3D
REFRESH-INTERVAL:P3D
CALSCALE:GREGORIAN
BEGIN:VEVENT
DTSTART:20131206T020000Z
DTEND:20131215T020000Z
X-MICROSOFT-CDO-ALLDAYEVENT:FALSE
SUMMARY:Little Women\, the Broadway Musical
DESCRIPTION:Based on Louisa May Alcott's own family experiences (and classic novel)\, LITTLE WOMEN\, follows the adventures of Jo\, Meg\, Beth and Amy March as they grow up in Civil War America. The beloved story of the March sisters is timeless and deals with issues as relevant today as when they were written. Now\, this wonderful narrative has been brought to life as an exhilarating new musical filled with glorious music\, dancing and heart. This is one that the whole family will enjoy during the holiday season. Rated G
X-ALT-DESC;FMTTYPE=text/html:Based on Louisa May Alcott&#39\;s own family experiences (and classic novel)\, LITTLE WOMEN\, follows the adventures of Jo\, Meg\, Beth and Amy March as they grow up in Civil War America. The beloved story of the March sisters is timeless and deals with issues as relevant today as when they were written. Now\, this wonderful narrative has been brought to life as an exhilarating new musical filled with glorious music\, dancing and heart. This is one that the whole family will enjoy during the holiday season. Rated G
LOCATION:25797 Conifer Rd\, Conifer\, CO 80433
UID:e.692.1605
SEQUENCE:3
DTSTAMP:20260423T200325Z
URL:https://business.goconifer.com/events/details/little-women-the-broadway-musical-12-05-2013-1605
END:VEVENT

END:VCALENDAR
