BEGIN:VCALENDAR
VERSION:2.0
PRODID:-//ChamberMaster//Event Calendar 2.0//EN
METHOD:PUBLISH
X-PUBLISHED-TTL:P3D
REFRESH-INTERVAL:P3D
CALSCALE:GREGORIAN
BEGIN:VEVENT
DTSTART:20281216T200000Z
DTEND:20281217T000000Z
X-MICROSOFT-CDO-ALLDAYEVENT:FALSE
SUMMARY:Life Bridge Food Pantry\, Food Drive
DESCRIPTION:Please help us fill our shelves and feed our community! All donations will remain right in the 285 corridor and help those in our community who need our support the most! Non-perishable food items\, grocery gift cards and cash are all greatly appreciated!   \n\n\n\nKing Soopers\, Conifer from 1:00 to 5:00pm.
X-ALT-DESC;FMTTYPE=text/html:Please help us fill our shelves and feed our community! All donations will remain right in the 285 corridor and help those in our community who need our support the most! Non-perishable food items\, grocery gift cards and cash are all greatly appreciated!&nbsp\; &nbsp\;<br />\n<br />\nKing Soopers\, Conifer from 1:00 to&nbsp\;5:00pm.&nbsp\;
LOCATION:King Soopers\, Conifer
UID:e.692.26154
SEQUENCE:3
DTSTAMP:20260422T025308Z
URL:https://business.goconifer.com/events/details/life-bridge-food-pantry-food-drive-12-16-2028-26154
END:VEVENT

END:VCALENDAR
