BEGIN:VCALENDAR
VERSION:2.0
PRODID:-//ChamberMaster//Event Calendar 2.0//EN
METHOD:PUBLISH
X-PUBLISHED-TTL:P3D
REFRESH-INTERVAL:P3D
CALSCALE:GREGORIAN
BEGIN:VEVENT
DTSTART:20140727T023000Z
DTEND:20140727T040000Z
X-MICROSOFT-CDO-ALLDAYEVENT:FALSE
SUMMARY:"Lassie Come Home" - Movie in the Grove
DESCRIPTION:JULY'S MOVIE IN THE GROVE AT HIWAN HOMESTEAD MUSEUM!\n\n Roddy McDowall and Elizabeth Taylor in LASSIE COME HOME\n\n\n\nThe collie that claimed the hearts of readers of Eric Knight's book and inspired a classic early television series will be celebrated during the July Movie in the Grove at Hiwan Homestead Museum in Evergreen. Enjoy a free movie showing of the 1943 classic "Lassie Come Home" on Saturday\, July 26 at 8:30 P.M. in historic Heritage Grove\, located on the grounds next to Hiwan Homestead Museum at 4208 S. Timbervale Dr.\, Evergreen 80439. \n\n\n\nThe movie follows the adventures of Lassie\, a collie\, as she tries to return to her beloved owner\, played by Roddy McDowall. A very young Elizabeth Taylor also has a big role in the cast.
X-ALT-DESC;FMTTYPE=text/html:JULY&rsquo\;S MOVIE IN THE GROVE AT&nbsp\;HIWAN&nbsp\;HOMESTEAD MUSEUM!<br />\n&#8203\;Roddy McDowall and Elizabeth Taylor in LASSIE COME HOME<br />\n<br />\nThe collie that claimed the hearts of readers of Eric Knight&rsquo\;s book and inspired a classic early television&nbsp\;series will be celebrated during the July Movie in the Grove at Hiwan Homestead Museum in Evergreen.&nbsp\;Enjoy a free movie showing of the 1943 classic &ldquo\;Lassie Come Home&rdquo\; on Saturday\, July 26 at 8:30&nbsp\;P.M. in historic Heritage Grove\, located on the grounds next to Hiwan Homestead Museum at 4208 S.&nbsp\;Timbervale Dr.\, Evergreen 80439.&nbsp\;<br />\n<br />\nThe movie follows the adventures of Lassie\, a collie\, as she tries to return to her beloved owner\, played&nbsp\;by Roddy McDowall. A very young Elizabeth Taylor also has a big role in the cast.&nbsp\;
LOCATION:Hiwan Homestead Museum is a 25-room log mansion constructed in the Rustic style of architecture and is open for public tours Tuesday thorugh Sunday with summer hours through August from 11:00 AM to 5:00 PM. It is located in Evergreen at 4208 South Timbervale Drive. Hiwan Homestead Museum is a Jefferson County Open Space facility operated in partnership with the Jefferson County Historical Society. The Museum was listed on the National Register of Historic Places in 1974.
UID:e.692.3052
SEQUENCE:3
DTSTAMP:20260423T104437Z
URL:https://business.goconifer.com/events/details/lassie-come-home-movie-in-the-grove-07-26-2014-3052
END:VEVENT

END:VCALENDAR
