BEGIN:VCALENDAR
VERSION:2.0
PRODID:-//ChamberMaster//Event Calendar 2.0//EN
METHOD:PUBLISH
X-PUBLISHED-TTL:P3D
REFRESH-INTERVAL:P3D
CALSCALE:GREGORIAN
BEGIN:VEVENT
DTSTART:20161109T143000Z
DTEND:20161109T160000Z
X-MICROSOFT-CDO-ALLDAYEVENT:FALSE
SUMMARY:Kiwanis Weekly Breakfast Meeting
DESCRIPTION:Membership weekly meeting.
X-ALT-DESC;FMTTYPE=text/html:Membership weekly meeting.
LOCATION:DW's Diner in Aspen Park
UID:e.692.3176
SEQUENCE:3
DTSTAMP:20260424T042828Z
URL:https://business.goconifer.com/events/details/kiwanis-weekly-breakfast-meeting-11-09-2016-3176
END:VEVENT

END:VCALENDAR
