BEGIN:VCALENDAR
VERSION:2.0
PRODID:-//ChamberMaster//Event Calendar 2.0//EN
METHOD:PUBLISH
X-PUBLISHED-TTL:P3D
REFRESH-INTERVAL:P3D
CALSCALE:GREGORIAN
BEGIN:VEVENT
DTSTART:20140914T013000Z
DTEND:20140914T033000Z
X-MICROSOFT-CDO-ALLDAYEVENT:FALSE
SUMMARY:Kiss Me Kate -Chamber Night!
DESCRIPTION:
X-ALT-DESC;FMTTYPE=text/html:
LOCATION:Center Stage\, 27608 Fireweed Drive\, Evergreen\, CO 80439
UID:e.692.3340
SEQUENCE:3
DTSTAMP:20260423T074039Z
URL:https://business.goconifer.com/events/details/kiss-me-kate-chamber-night-09-13-2014-3340
END:VEVENT

END:VCALENDAR
