BEGIN:VCALENDAR
VERSION:2.0
PRODID:-//ChamberMaster//Event Calendar 2.0//EN
METHOD:PUBLISH
X-PUBLISHED-TTL:P3D
REFRESH-INTERVAL:P3D
CALSCALE:GREGORIAN
BEGIN:VEVENT
DTSTART:20160727T160000Z
DTEND:20160727T170000Z
X-MICROSOFT-CDO-ALLDAYEVENT:FALSE
SUMMARY:Kids Crafts at Staunton State Park
DESCRIPTION:Bring the kids for an hour of interactive play and learning at Colorado's newest State Park! Each week offers a different outdoor educational adventure!
X-ALT-DESC;FMTTYPE=text/html:Bring the kids for an hour of interactive play and learning at Colorado&rsquo\;s newest State Park! Each week offers a different outdoor educational adventure!
LOCATION:Staunton State Park\, 12102 S Elk Creek Rd\, Pine CO 80470
UID:e.692.18914
SEQUENCE:3
DTSTAMP:20260421T182353Z
URL:https://business.goconifer.com/events/details/kids-crafts-at-staunton-state-park-07-27-2016-18914
END:VEVENT

END:VCALENDAR
