BEGIN:VCALENDAR
VERSION:2.0
PRODID:-//ChamberMaster//Event Calendar 2.0//EN
METHOD:PUBLISH
X-PUBLISHED-TTL:P3D
REFRESH-INTERVAL:P3D
CALSCALE:GREGORIAN
BEGIN:VEVENT
DTSTART:20160622T160000Z
DTEND:20160622T170000Z
X-MICROSOFT-CDO-ALLDAYEVENT:FALSE
SUMMARY:Kids Crafts
DESCRIPTION:Kids Crafts 10am\n\nBring the kids for an hour of interactive play and learning at Colorado's newest State Park! Each week offers a different outdoor educational adventure!
X-ALT-DESC;FMTTYPE=text/html:<strong><span style="color:#008800">Kids Crafts 10am</span></strong><br />\n<em>Bring the kids for an hour of interactive play and learning at Colorado&rsquo\;s newest State Park! Each week offers a different outdoor educational adventure!</em>
LOCATION:Staunton State Park\, 12102 S Elk Creek Rd\, Pine CO 80470
UID:e.692.18845
SEQUENCE:3
DTSTAMP:20260421T222557Z
URL:https://business.goconifer.com/events/details/kids-crafts-06-22-2016-18845
END:VEVENT

END:VCALENDAR
