BEGIN:VCALENDAR
VERSION:2.0
PRODID:-//ChamberMaster//Event Calendar 2.0//EN
METHOD:PUBLISH
X-PUBLISHED-TTL:P3D
REFRESH-INTERVAL:P3D
CALSCALE:GREGORIAN
BEGIN:VEVENT
DTSTART:20160729T160000Z
DTEND:20160729T200000Z
X-MICROSOFT-CDO-ALLDAYEVENT:FALSE
SUMMARY:Kid's Fishing at Staunton State Park
DESCRIPTION:Kid's Fishing 10am -2pm\n\nCome join  us at Davis Ponds for a fishing adventure! The ponds are stocked full of rainbows! Come play  Backyard Bass to learn casting \, then join us at the pond for "reel" fishing! ( All gear provided!)
X-ALT-DESC;FMTTYPE=text/html:Kid&rsquo\;s Fishing 10am -2pm<br />\nCome join&nbsp\; us at Davis Ponds for a fishing adventure! The ponds are stocked full of rainbows! Come play&nbsp\; Backyard Bass to learn casting \, then join us at the pond for &ldquo\;reel&rdquo\; fishing! ( All gear provided!)
LOCATION:Staunton State Park Davis Ponds\, 12102 S Elk Creek Rd\, Pine CO 80470
UID:e.692.18926
SEQUENCE:3
DTSTAMP:20260421T193755Z
URL:https://business.goconifer.com/events/details/kid-s-fishing-at-staunton-state-park-07-29-2016-18926
END:VEVENT

END:VCALENDAR
